BEGIN:VCALENDAR
VERSION:2.0
PRODID:SchoolNow
CALSCALE:GREGORIAN
BEGIN:VEVENT
UID:2933bd48-bc1c-11f0-bd99-0affea86061f
DTSTAMP:20251216T214556Z
SUMMARY:Parent-to-Parent Zoom Meeting
URL;VALUE=URI:https://www.coveschool.org/calendar/8783364/parent-to-parent-
 zoom-meeting
DTSTART:20260521T003000Z
DTEND:20260521T020000Z
END:VEVENT
END:VCALENDAR
