BEGIN:VCALENDAR
VERSION:2.0
PRODID:SchoolNow
CALSCALE:GREGORIAN
BEGIN:VEVENT
UID:546026f8-74e8-11f0-a9b2-0a58a9feac02
DTSTAMP:20251216T214556Z
SUMMARY:Prom
URL;VALUE=URI:https://www.coveschool.org/calendar/8484902/prom
DTSTART:20260515T230000Z
DTEND:20260516T013000Z
END:VEVENT
END:VCALENDAR
